BEGIN:VCALENDAR
VERSION:2.0
PRODID:-//Université La Sagesse - ECPv6.15.15//NONSGML v1.0//EN
CALSCALE:GREGORIAN
METHOD:PUBLISH
X-ORIGINAL-URL:https://www.uls.edu.lb
X-WR-CALDESC:Events for Université La Sagesse
REFRESH-INTERVAL;VALUE=DURATION:PT1H
X-Robots-Tag:noindex
X-PUBLISHED-TTL:PT1H
BEGIN:VTIMEZONE
TZID:Europe/Helsinki
BEGIN:DAYLIGHT
TZOFFSETFROM:+0200
TZOFFSETTO:+0300
TZNAME:EEST
DTSTART:20240331T010000
END:DAYLIGHT
BEGIN:STANDARD
TZOFFSETFROM:+0300
TZOFFSETTO:+0200
TZNAME:EET
DTSTART:20241027T010000
END:STANDARD
BEGIN:DAYLIGHT
TZOFFSETFROM:+0200
TZOFFSETTO:+0300
TZNAME:EEST
DTSTART:20250330T010000
END:DAYLIGHT
BEGIN:STANDARD
TZOFFSETFROM:+0300
TZOFFSETTO:+0200
TZNAME:EET
DTSTART:20251026T010000
END:STANDARD
BEGIN:DAYLIGHT
TZOFFSETFROM:+0200
TZOFFSETTO:+0300
TZNAME:EEST
DTSTART:20260329T010000
END:DAYLIGHT
BEGIN:STANDARD
TZOFFSETFROM:+0300
TZOFFSETTO:+0200
TZNAME:EET
DTSTART:20261025T010000
END:STANDARD
BEGIN:DAYLIGHT
TZOFFSETFROM:+0200
TZOFFSETTO:+0300
TZNAME:EEST
DTSTART:20270328T010000
END:DAYLIGHT
BEGIN:STANDARD
TZOFFSETFROM:+0300
TZOFFSETTO:+0200
TZNAME:EET
DTSTART:20271031T010000
END:STANDARD
END:VTIMEZONE
BEGIN:VEVENT
DTSTART;TZID=Europe/Helsinki:20251101T000000
DTEND;TZID=Europe/Helsinki:20260331T000000
DTSTAMP:20260423T075701
CREATED:20250915T130000Z
LAST-MODIFIED:20250915T131328Z
UID:1005062-1761955200-1774915200@www.uls.edu.lb
SUMMARY:Professional Mediation Training Program at the Lebanese Center for Mediation and Conciliation (LAMAC)
DESCRIPTION:The Lebanese Center for Mediation and Conciliation (LAMAC)\, in partnership with Université La Sagesse\, is delighted to open registration for the Professional Mediation Training Program.\n\nThis Professional training will give participants the knowledge\, tools\, and confidence to become certified mediators – mastering communication\, negotiation\, and conflict resolution techniques to address disputes effectively and constructively.\n\n\n\nProgram Details\n\n•⁠  ⁠When: November 2025 – March 2026\n•⁠  ⁠Language: Arabic\n•⁠  ⁠Who Can Join: Professionals from any field holding at least a university degree\n•⁠  ⁠Led By: A distinguished team of mediation experts\n\n\nRegistration Information\n>> Professional Mediation Training Program – 2025-2026\n•⁠  ⁠Location: LAMAC Center\, Badaro\n•⁠  ⁠Deadline to Apply: October 2025\n\n\n\nContact Us\n📧 info@lamaclb.org\n📞 76 146 136\n\n\n 
URL:https://www.uls.edu.lb/event/professional-mediation-training-program/
LOCATION:Lausanne
CATEGORIES:Upcoming Event
ATTACH;FMTTYPE=image/png:https://www.uls.edu.lb/wp-content/uploads/2024/09/Sagesse-Faculties-Thumbnails_uLaSagesse.png
END:VEVENT
BEGIN:VEVENT
DTSTART;TZID=Europe/Helsinki:20260113T170000
DTEND;TZID=Europe/Helsinki:20260113T190000
DTSTAMP:20260423T075701
CREATED:20260113T100005Z
LAST-MODIFIED:20260113T100427Z
UID:1007609-1768323600-1768330800@www.uls.edu.lb
SUMMARY:Webinaire - Éthique\, intégrité scientifique et protection des données
DESCRIPTION:Microsoft Teams meeting\nJoin: https://teams.microsoft.com/meet/39304191996966?p=zYZZAdWTdJHvOvbFJy\nMeeting ID: 393 041 919 969 66\nPasscode: eE9Aa2LC\n 
URL:https://www.uls.edu.lb/event/webinaire-ethique-integrite-scientifique-et-protection-des-donnees/
LOCATION:Online\, Lebanon
CATEGORIES:Université La Sagesse
ATTACH;FMTTYPE=image/jpeg:https://www.uls.edu.lb/wp-content/uploads/2026/01/ethique-webinaire-01-scaled.jpg
END:VEVENT
BEGIN:VEVENT
DTSTART;TZID=Europe/Helsinki:20260115T080000
DTEND;TZID=Europe/Helsinki:20260115T170000
DTSTAMP:20260423T075701
CREATED:20260115T122623Z
LAST-MODIFIED:20260115T123117Z
UID:1007777-1768464000-1768496400@www.uls.edu.lb
SUMMARY:Université La Sagesse inaugurated the fifteenth edition of the Inter-University Program on International Criminal Law and Procedure (IUP)
DESCRIPTION:  \nUniversité La Sagesse inaugurated the fifteenth edition of the Inter-University Program on International Criminal Law and Procedure (IUP)\, with the participation of 260 students from twelve higher education institutions in Lebanon\, Palestine\, Jordan\, Iraq\, and Egypt. The program includes specialized lectures delivered online by experts in international criminal law\, through cooperation between the T.M.C. Asser Instituut\, the non-governmental organization IUSTICOM\, and the Human Rights Legal Clinic at the Faculty of Law of La Sagesse University\, with support from the Konrad Adenauer Foundation. \nIn his opening address\, the Dean of the Faculty of Law at Université La Sagesse\, Dr. Chadi Saad\, stressed that the broad participation in the program reflects the importance of international criminal justice at a time when accountability is in decline. He reaffirmed Université La Sagesse’s ongoing commitment to promoting awareness of the rule of law and human rights\, emphasizing the importance of education in this field as it contributes to the development of critical thinking and the protection of victims’ rights. \nChristophe Paulussen\, senior researcher at the T.M.C. Asser Instituut\, has coordinated the programme from the onset on behalf of the Asser Institute. Paulussen: “The IUP was one of my first projects when I started at Asser and now\, 15 years later\, it’s still alive and kicking\, and very close to my heart. To assist in making a meaningful impact in a region that has suffered\, and is still suffering\, so much\, and to see the resilience of the students\, is extremely rewarding. I am honoured to contribute and grateful to everyone who has made the IUP possible.” \nDr. Hans-Jörg Dietz\, Director of the Konrad Adenauer Foundation\, pointed out that justice should not be confined to those who possess power and influence\, stressing the need to develop accountability\, especially at times when the law is constantly being put to the test. He expressed his appreciation for encouraging students to engage in a program that promotes the principle of international justice\, and noted that the Foundation is exploring the possibility of organizing a study tour to The Hague for successful students. \nSubsequently\, Olga Kavran of IUSTICOM\, one of the co-founders of the programme\, says: “Seeing so many young people interested in this program truly gives me hope. This is particularly important because we live in a time of deep contradictions\, when justice is widely invoked while the rule of law\, as we have come to know it\, is systematically destroyed. It is important because human progress is not linear; it advances\, retreats\, and advances again\, and it is younger generations\, just like in some previous times\, who will hopefully restore real and meaningful justice and the rule of law.” She encouraged students to broaden their horizons\, saying: “You are here to affirm that you can contribute and persevere to make change and make the world a better place for everyone.” \n  \nOverview of the program\, its objectives\, and participating students \nThe Director of the Legal Clinic at Université La Sagesse\, Ms. Reina Sfeir\, noted that the growing number of participating students confirms the importance and impact of the program\, particularly as it bridges legal knowledge with lived reality. She explained that the program includes 17 sessions and a final examination\, upon which students receive a certificate signed by the partner institutions. \nParticipants in this fifteenth edition of the Inter-University Program come from twelve universities in five Arab countries as follows: \n\nFrom Lebanon: the Lebanese University\, Université La Sagesse\, the Holy Spirit University of Kaslik\, and the Islamic University;\nFrom Palestine: Hebron University\, Birzeit University\, and An-Najah National University;\nFrom Jordan: Petra University;\nFrom Egypt: Ain Shams University and Alexandria University;\nFrom Iraq: the University of Basra and the University of Mosul.\n\nThe program was launched in 2011 by the Asser Instituut and the Outreach Unit of the Special Tribunal for Lebanon (STL)\, at a time when no specialization in international criminal law was offered at any Lebanese university\, making the Inter-University Program (IUP) the first of its kind and a precedent in the Middle East and North Africa region. \nFollowing the withdrawal of the Special Tribunal for Lebanon in 2020\, the program continued to be implemented by the Asser Instituut and the International and Transitional Justice Resource Center (ITJRC). \nIn 2022\, La Sagesse University and IUSTICOM joined as partners in the consortium managing the program. \nTo date\, more than 2\,700 students across the Middle East and North Africa have graduated from the program\, contributing to the preparation of a generation of regional experts specialized in international criminal law matters. \n  \n 
URL:https://www.uls.edu.lb/event/universite-la-sagesse-inaugurated-the-fifteenth-edition-of-the-inter-university-program-on-international-criminal-law-and-procedure-iup/
LOCATION:Online\, Lebanon
CATEGORIES:Faculty of Law,Université La Sagesse,Legal Clinic
ATTACH;FMTTYPE=image/jpeg:https://www.uls.edu.lb/wp-content/uploads/2026/01/WhatsApp-Image-2026-01-15-at-11.30.01.jpeg
END:VEVENT
BEGIN:VEVENT
DTSTART;TZID=Europe/Helsinki:20260128T180000
DTEND;TZID=Europe/Helsinki:20260128T200000
DTSTAMP:20260423T075701
CREATED:20260129T134540Z
LAST-MODIFIED:20260129T135300Z
UID:1007784-1769623200-1769630400@www.uls.edu.lb
SUMMARY:لقاء جامع حول نسب يسوع وصلاة المزامير في جامعة الحكمة
DESCRIPTION:لقاء جامع حول نسب يسوع وصلاة المزامير في جامعة الحكمة \nفي إطار مؤتمر الأيام البيبلية وأسبوع الكتاب المقدس، إستضافت كلية العلوم الدينية واللاهوتية في جامعة الحكمة لقاء جامعًا حول محاضرتين، الأولى للمطران الدكتور أنطوان عوكر حول “نسب يسوع في إنجيل متى: محطة مفصلية بين العهدين”، والثانية للأب سمير بشارة حول “كتاب المزامير: هل من قراءة مسيحية ممكنة؟”، بحضور عميد كلية العلوم الدينية واللاهوتية في جامعة الحكمة الخوري طانيوس خليل وحشد من المتخصصين باللاهوت وكهنة وراهبات وطلاب. \n لفت المطران الدكتور أنطوان عوكر في محاضرته إلى أن إنجيل متى أظهر في نسب يسوع المحطة المفصلية التي يربط بين العهدين القديم والجديد، وقد اختار متى “ابراهيم” و”داود” ليعرض نسب يسوع لأنهما الشخصان الوحيدان في العهد القديم اللذان كانت علاقة الله معهما وعدًا مجانيًا، فأراد أن يظهر أن يسوع أتى بعهد جديد وولادة جديدة ليصنع وعدًا جديدًا بالخلاص بعطاء مجاني من دون مقابل. ولفت المطران عوكر إلى أنه مع نسب يسوع حصل الإنتقال من المستوى اللحمي الدموي إلى المستوى الإيماني الروحي حيث صار النسب إلى يسوع غير مرتبط بالجسد بل الروح والإيمان. \nوفي المحاضرة حول المزامير، قال الأب بشارة إنها “مغامرة يومية تعلّم على الصلاة”. وأوضح أن معظم المزامير تشير إلى أحداث من الماضي لكنه ماض مصوغ باللاهوت والصلاة، يعبّر عنه الشعر الديني، ما يجعل المزامير تعبيرًا شعريًا لاختبار ديني، ولكنها ليست شعرًا وحسب بل إنها نتيجة اختبار يتخطّى الزمان والثقافات. \nأضاف الأب بشارة أن المزامير صلاة إنسانية وواقعية ودراماتيكية وبيبلية وكنسية، وقد صلّى يسوع المزامير لذلك تجسّد المزامير الذاكرة التاريخية لحياة يسوع، وعندما نصلّي المزامير، نصلّي في الواقع يسوع بالذات، فالإنسانية والواقعية والدراما التي نجدها في المزامير نجدها في الواقع في حياة يسوع. \n  \n \n \n \n 
URL:https://www.uls.edu.lb/event/%d9%84%d9%82%d8%a7%d8%a1-%d8%ac%d8%a7%d9%85%d8%b9-%d8%ad%d9%88%d9%84-%d9%86%d8%b3%d8%a8-%d9%8a%d8%b3%d9%88%d8%b9-%d9%88%d8%b5%d9%84%d8%a7%d8%a9-%d8%a7%d9%84%d9%85%d8%b2%d8%a7%d9%85%d9%8a%d8%b1-%d9%81/
LOCATION:Université La Sagesse – Main Campus\, Furn El Chebbak\, Lebanon
CATEGORIES:Faculty of Religious and Theological Sciences,Université La Sagesse
ATTACH;FMTTYPE=image/jpeg:https://www.uls.edu.lb/wp-content/uploads/2026/01/1.jpg
END:VEVENT
BEGIN:VEVENT
DTSTART;VALUE=DATE:20260130
DTEND;VALUE=DATE:20261212
DTSTAMP:20260423T075701
CREATED:20251215T140343Z
LAST-MODIFIED:20260416T131023Z
UID:1007166-1769731200-1797033599@www.uls.edu.lb
SUMMARY:Advanced Manual Therapy and Osteopathic Manipulative Techniques Program
DESCRIPTION:CCE Registration Form – Advanced Manual Therapy Program\nhttps://tinyurl.com/3tme9wnd  \n  \n \n  \n \n  \n  \n  \n  \n 
URL:https://www.uls.edu.lb/event/ptp/
LOCATION:Université La Sagesse – Main Campus\, Furn El Chebbak\, Lebanon
CATEGORIES:Center for Continuing Education,Faculty of Public Health,Upcoming Event
ATTACH;FMTTYPE=image/jpeg:https://www.uls.edu.lb/wp-content/uploads/2025/12/IOT-scaled.jpg
END:VEVENT
END:VCALENDAR