BEGIN:VCALENDAR
VERSION:2.0
PRODID:-//Université La Sagesse - ECPv6.15.15//NONSGML v1.0//EN
CALSCALE:GREGORIAN
METHOD:PUBLISH
X-ORIGINAL-URL:https://www.uls.edu.lb
X-WR-CALDESC:Events for Université La Sagesse
REFRESH-INTERVAL;VALUE=DURATION:PT1H
X-Robots-Tag:noindex
X-PUBLISHED-TTL:PT1H
BEGIN:VTIMEZONE
TZID:Europe/Helsinki
BEGIN:DAYLIGHT
TZOFFSETFROM:+0200
TZOFFSETTO:+0300
TZNAME:EEST
DTSTART:20240331T010000
END:DAYLIGHT
BEGIN:STANDARD
TZOFFSETFROM:+0300
TZOFFSETTO:+0200
TZNAME:EET
DTSTART:20241027T010000
END:STANDARD
BEGIN:DAYLIGHT
TZOFFSETFROM:+0200
TZOFFSETTO:+0300
TZNAME:EEST
DTSTART:20250330T010000
END:DAYLIGHT
BEGIN:STANDARD
TZOFFSETFROM:+0300
TZOFFSETTO:+0200
TZNAME:EET
DTSTART:20251026T010000
END:STANDARD
BEGIN:DAYLIGHT
TZOFFSETFROM:+0200
TZOFFSETTO:+0300
TZNAME:EEST
DTSTART:20260329T010000
END:DAYLIGHT
BEGIN:STANDARD
TZOFFSETFROM:+0300
TZOFFSETTO:+0200
TZNAME:EET
DTSTART:20261025T010000
END:STANDARD
BEGIN:DAYLIGHT
TZOFFSETFROM:+0200
TZOFFSETTO:+0300
TZNAME:EEST
DTSTART:20270328T010000
END:DAYLIGHT
BEGIN:STANDARD
TZOFFSETFROM:+0300
TZOFFSETTO:+0200
TZNAME:EET
DTSTART:20271031T010000
END:STANDARD
END:VTIMEZONE
BEGIN:VEVENT
DTSTART;TZID=Europe/Helsinki:20251101T000000
DTEND;TZID=Europe/Helsinki:20260331T000000
DTSTAMP:20260423T111528
CREATED:20250915T130000Z
LAST-MODIFIED:20250915T131328Z
UID:1005062-1761955200-1774915200@www.uls.edu.lb
SUMMARY:Professional Mediation Training Program at the Lebanese Center for Mediation and Conciliation (LAMAC)
DESCRIPTION:The Lebanese Center for Mediation and Conciliation (LAMAC)\, in partnership with Université La Sagesse\, is delighted to open registration for the Professional Mediation Training Program.\n\nThis Professional training will give participants the knowledge\, tools\, and confidence to become certified mediators – mastering communication\, negotiation\, and conflict resolution techniques to address disputes effectively and constructively.\n\n\n\nProgram Details\n\n•⁠  ⁠When: November 2025 – March 2026\n•⁠  ⁠Language: Arabic\n•⁠  ⁠Who Can Join: Professionals from any field holding at least a university degree\n•⁠  ⁠Led By: A distinguished team of mediation experts\n\n\nRegistration Information\n>> Professional Mediation Training Program – 2025-2026\n•⁠  ⁠Location: LAMAC Center\, Badaro\n•⁠  ⁠Deadline to Apply: October 2025\n\n\n\nContact Us\n📧 info@lamaclb.org\n📞 76 146 136\n\n\n 
URL:https://www.uls.edu.lb/event/professional-mediation-training-program/
LOCATION:Lausanne
CATEGORIES:Upcoming Event
ATTACH;FMTTYPE=image/png:https://www.uls.edu.lb/wp-content/uploads/2024/09/Sagesse-Faculties-Thumbnails_uLaSagesse.png
END:VEVENT
BEGIN:VEVENT
DTSTART;VALUE=DATE:20260130
DTEND;VALUE=DATE:20261212
DTSTAMP:20260423T111529
CREATED:20251215T140343Z
LAST-MODIFIED:20260416T131023Z
UID:1007166-1769731200-1797033599@www.uls.edu.lb
SUMMARY:Advanced Manual Therapy and Osteopathic Manipulative Techniques Program
DESCRIPTION:CCE Registration Form – Advanced Manual Therapy Program\nhttps://tinyurl.com/3tme9wnd  \n  \n \n  \n \n  \n  \n  \n  \n 
URL:https://www.uls.edu.lb/event/ptp/
LOCATION:Université La Sagesse – Main Campus\, Furn El Chebbak\, Lebanon
CATEGORIES:Center for Continuing Education,Faculty of Public Health,Upcoming Event
ATTACH;FMTTYPE=image/jpeg:https://www.uls.edu.lb/wp-content/uploads/2025/12/IOT-scaled.jpg
END:VEVENT
BEGIN:VEVENT
DTSTART;VALUE=DATE:20260316
DTEND;VALUE=DATE:20260320
DTSTAMP:20260423T111529
CREATED:20260330T074528Z
LAST-MODIFIED:20260330T075547Z
UID:1007980-1773619200-1773964799@www.uls.edu.lb
SUMMARY:Faculty of Tourism and Hotel Management Students Represent ULS at the Young Hospitality Summit 2026 in Lausanne
DESCRIPTION:We are proud to showcase the participation of our students\, Mia Feghali and Rahaf Rmeity\, from the Faculty of Tourism and Hotel Management\, who represented the university at École hôtelière de Lausanne (EHL) during the Young Hospitality Summit\, held from March 16 to 19. \nBringing together hospitality students and industry leaders from around the world\, this prestigious summit explored the theme: “Luxury Redefined: A Generation Shift.” \nMia and Rahaf presented insightful work on the transformation of traditional luxury in hospitality\, highlighting how it is being reshaped by today’s emerging trends from personalization and sustainability to meaningful\, experience-driven value. \nA proud moment for our students\, whose dedication and excellence shone as they represented our university on the international stage. \nThe Faculty of Tourism and Hotel Management holds an Academic Certification from École hôtelière de Lausanne. \n 
URL:https://www.uls.edu.lb/event/faculty-of-tourism-and-hotel-management-students-represent-uls-at-the-young-hospitality-summit-2026-in-lausanne/
LOCATION:École hôtelière de Lausanne (EHL)\, Lausanne\, Switzerland
CATEGORIES:Faculty of Tourism and Hotel Management,Université La Sagesse
ATTACH;FMTTYPE=image/jpeg:https://www.uls.edu.lb/wp-content/uploads/2026/03/82e660a6-29e6-470d-b97b-75f623e0ecf6.jpg
END:VEVENT
BEGIN:VEVENT
DTSTART;VALUE=DATE:20260316
DTEND;VALUE=DATE:20260320
DTSTAMP:20260423T111529
CREATED:20260415T081149Z
LAST-MODIFIED:20260420T082437Z
UID:1008028-1773619200-1773964799@www.uls.edu.lb
SUMMARY:Université La Sagesse has been granted Institutional Accreditation by ZEvAv
DESCRIPTION:We are proud to announce that Université La Sagesse has been officially granted International Institutional Accreditation by the Central Evaluation and Accreditation Agency Hannover (ZEvA) for a period of six years without conditions. \nZEvA is a highly reputable European accreditation agency and was the first agency to be accredited in Germany in 2000.\nIt is a full member of ENQA (European Association for Quality Assurance in Higher Education) and is listed in EQAR (European Quality Assurance Register for Higher Education)\, placing it among the leading quality assurance bodies in the European Higher Education Area. \nThis success is the result of a collective effort involving faculty\, staff\, students\, and administration\, under the leadership of Université La Sagesse President\, Professor Georges Nehme\, and the Board. \nWe extend special recognition to the Vice President for Research and Development\, Professor Etienne HARB\, and the members of the Quality Assurance Steering Committee (QASC) for their dedication and commitment throughout the accreditation process. \n 
URL:https://www.uls.edu.lb/event/universite-la-sagesse-has-been-granted-institutional-accreditation-by-zevav/
LOCATION:École hôtelière de Lausanne (EHL)\, Lausanne\, Switzerland
CATEGORIES:Faculty of Tourism and Hotel Management,Université La Sagesse
ATTACH;FMTTYPE=image/png:https://www.uls.edu.lb/wp-content/uploads/2026/04/Screenshot-2026-04-20-at-11.18.54.png
END:VEVENT
END:VCALENDAR